BEGIN:VCALENDAR
VERSION:2.0
PRODID:-//Zionsville Great Banquet &amp; Awakening - ECPv6.15.20//NONSGML v1.0//EN
CALSCALE:GREGORIAN
METHOD:PUBLISH
X-ORIGINAL-URL:https://zionsvillegb.org
X-WR-CALDESC:Events for Zionsville Great Banquet &amp; Awakening
REFRESH-INTERVAL;VALUE=DURATION:PT1H
X-Robots-Tag:noindex
X-PUBLISHED-TTL:PT1H
BEGIN:VTIMEZONE
TZID:America/Indiana/Indianapolis
BEGIN:DAYLIGHT
TZOFFSETFROM:-0500
TZOFFSETTO:-0400
TZNAME:EDT
DTSTART:20220313T070000
END:DAYLIGHT
BEGIN:STANDARD
TZOFFSETFROM:-0400
TZOFFSETTO:-0500
TZNAME:EST
DTSTART:20221106T060000
END:STANDARD
BEGIN:DAYLIGHT
TZOFFSETFROM:-0500
TZOFFSETTO:-0400
TZNAME:EDT
DTSTART:20230312T070000
END:DAYLIGHT
BEGIN:STANDARD
TZOFFSETFROM:-0400
TZOFFSETTO:-0500
TZNAME:EST
DTSTART:20231105T060000
END:STANDARD
BEGIN:DAYLIGHT
TZOFFSETFROM:-0500
TZOFFSETTO:-0400
TZNAME:EDT
DTSTART:20240310T070000
END:DAYLIGHT
BEGIN:STANDARD
TZOFFSETFROM:-0400
TZOFFSETTO:-0500
TZNAME:EST
DTSTART:20241103T060000
END:STANDARD
END:VTIMEZONE
BEGIN:VEVENT
DTSTART;TZID=America/Indiana/Indianapolis:20230203T113000
DTEND;TZID=America/Indiana/Indianapolis:20230205T173000
DTSTAMP:20260425T202934
CREATED:20220313T185931Z
LAST-MODIFIED:20221217T192806Z
UID:733-1675423800-1675618200@zionsvillegb.org
SUMMARY:Awakening #50 - Boys
DESCRIPTION:Awakenings are held in Zionsville\, Indiana every winter at Zionsville Presbyterian Church. The Awakening is a 54-hour experience starting Friday at noon through Sunday afternoon. Students typically arrange an excused school absence to attend. Guests are called “sleepers” and stay on-site at the church the whole weekend. The group enjoys great food\, meaningful talks\, worship music and a lot of fun activities. \nThe Awakening is open to students from any high school or denomination. It is a safe place for teens to explore the Christian faith\, whether they are already a committed believer or just want to discuss their questions or doubts. Reservations are required and spaces are allotted on a first-come basis\, with preferential access given to juniors and seniors. If space is not available in this year’s Awakening\, sleepers are guaranteed a spot in the next year. Please register early. \nThere is no specific charge for the weekend\, but you will be given the opportunity to make an offering if you so desire. You may give any amount or nothing. We do request a $20 registration fee. If this fee is a financial hardship\, we invite you to use the coupon code: AGAPE at checkout.\n			\n				Click Here to Register
URL:https://zionsvillegb.org/event/awakening-50-boys/
LOCATION:Zionsville Presbyterian Church\, 4775 West 116th Street\, Zionsville\, 46077\, United States
CATEGORIES:Awakenings
ATTACH;FMTTYPE=image/png:https://zionsvillegb.org/wp-content/uploads/2022/03/Awakening-Logo-small.png
END:VEVENT
BEGIN:VEVENT
DTSTART;TZID=America/Indiana/Indianapolis:20230216T190000
DTEND;TZID=America/Indiana/Indianapolis:20230216T200000
DTSTAMP:20260425T202934
CREATED:20220701T001220Z
LAST-MODIFIED:20220701T001423Z
UID:819-1676574000-1676577600@zionsvillegb.org
SUMMARY:Community Gathering: Dedication Gathering
DESCRIPTION:
URL:https://zionsvillegb.org/event/community-gathering-dedication-gathering-2-16-23/
LOCATION:Zionsville Presbyterian Church\, 4775 West 116th Street\, Zionsville\, 46077\, United States
CATEGORIES:Community Gatherings
END:VEVENT
END:VCALENDAR